BEGIN:VCALENDAR
VERSION:2.0
PRODID:-//The Van Reed Brothers - ECPv6.15.12.2//NONSGML v1.0//EN
CALSCALE:GREGORIAN
METHOD:PUBLISH
X-WR-CALNAME:The Van Reed Brothers
X-ORIGINAL-URL:https://www.vanreedbrothers.com
X-WR-CALDESC:Events for The Van Reed Brothers
REFRESH-INTERVAL;VALUE=DURATION:PT1H
X-Robots-Tag:noindex
X-PUBLISHED-TTL:PT1H
BEGIN:VTIMEZONE
TZID:America/New_York
BEGIN:DAYLIGHT
TZOFFSETFROM:-0500
TZOFFSETTO:-0400
TZNAME:EDT
DTSTART:20210314T070000
END:DAYLIGHT
BEGIN:STANDARD
TZOFFSETFROM:-0400
TZOFFSETTO:-0500
TZNAME:EST
DTSTART:20211107T060000
END:STANDARD
BEGIN:DAYLIGHT
TZOFFSETFROM:-0500
TZOFFSETTO:-0400
TZNAME:EDT
DTSTART:20220313T070000
END:DAYLIGHT
BEGIN:STANDARD
TZOFFSETFROM:-0400
TZOFFSETTO:-0500
TZNAME:EST
DTSTART:20221106T060000
END:STANDARD
BEGIN:DAYLIGHT
TZOFFSETFROM:-0500
TZOFFSETTO:-0400
TZNAME:EDT
DTSTART:20230312T070000
END:DAYLIGHT
BEGIN:STANDARD
TZOFFSETFROM:-0400
TZOFFSETTO:-0500
TZNAME:EST
DTSTART:20231105T060000
END:STANDARD
END:VTIMEZONE
BEGIN:VEVENT
DTSTART;TZID=America/New_York:20220108T190000
DTEND;TZID=America/New_York:20220108T220000
DTSTAMP:20260425T073537
CREATED:20211229T175108Z
LAST-MODIFIED:20211229T175108Z
UID:553-1641668400-1641679200@www.vanreedbrothers.com
SUMMARY:Creekside Lodge Mayer\, Az
DESCRIPTION:
URL:https://www.vanreedbrothers.com/event/creekside-lodge-mayer-az/
LOCATION:Creekside Lodge\, 11255 Az-69\, Mayer\, AZ\, United States
END:VEVENT
BEGIN:VEVENT
DTSTART;TZID=America/New_York:20220109T160000
DTEND;TZID=America/New_York:20220109T190000
DTSTAMP:20260425T073537
CREATED:20211229T175218Z
LAST-MODIFIED:20211229T175218Z
UID:555-1641744000-1641754800@www.vanreedbrothers.com
SUMMARY:The Belfry Brewery
DESCRIPTION:
URL:https://www.vanreedbrothers.com/event/the-belfry-brewery-2/
LOCATION:The Belfry Brewery\, 91 N Main St\, Cottonwood\, AZ\, 86326\, United States
END:VEVENT
BEGIN:VEVENT
DTSTART;TZID=America/New_York:20220120T170000
DTEND;TZID=America/New_York:20220120T210000
DTSTAMP:20260425T073537
CREATED:20211229T175325Z
LAST-MODIFIED:20211229T175325Z
UID:556-1642698000-1642712400@www.vanreedbrothers.com
SUMMARY:Mountain View Pub
DESCRIPTION:
URL:https://www.vanreedbrothers.com/event/mountain-view-pub-5/
LOCATION:AZ
END:VEVENT
END:VCALENDAR