BEGIN:VCALENDAR
VERSION:2.0
PRODID:-//The Van Reed Brothers - ECPv6.15.12.2//NONSGML v1.0//EN
CALSCALE:GREGORIAN
METHOD:PUBLISH
X-ORIGINAL-URL:https://www.vanreedbrothers.com
X-WR-CALDESC:Events for The Van Reed Brothers
REFRESH-INTERVAL;VALUE=DURATION:PT1H
X-Robots-Tag:noindex
X-PUBLISHED-TTL:PT1H
BEGIN:VTIMEZONE
TZID:America/New_York
BEGIN:DAYLIGHT
TZOFFSETFROM:-0500
TZOFFSETTO:-0400
TZNAME:EDT
DTSTART:20210314T070000
END:DAYLIGHT
BEGIN:STANDARD
TZOFFSETFROM:-0400
TZOFFSETTO:-0500
TZNAME:EST
DTSTART:20211107T060000
END:STANDARD
BEGIN:DAYLIGHT
TZOFFSETFROM:-0500
TZOFFSETTO:-0400
TZNAME:EDT
DTSTART:20220313T070000
END:DAYLIGHT
BEGIN:STANDARD
TZOFFSETFROM:-0400
TZOFFSETTO:-0500
TZNAME:EST
DTSTART:20221106T060000
END:STANDARD
BEGIN:DAYLIGHT
TZOFFSETFROM:-0500
TZOFFSETTO:-0400
TZNAME:EDT
DTSTART:20230312T070000
END:DAYLIGHT
BEGIN:STANDARD
TZOFFSETFROM:-0400
TZOFFSETTO:-0500
TZNAME:EST
DTSTART:20231105T060000
END:STANDARD
END:VTIMEZONE
BEGIN:VEVENT
DTSTART;TZID=America/New_York:20220208T153000
DTEND;TZID=America/New_York:20220208T173000
DTSTAMP:20260425T073832
CREATED:20211229T175525Z
LAST-MODIFIED:20211229T175525Z
UID:557-1644334200-1644341400@www.vanreedbrothers.com
SUMMARY:Mesa Spirit RV Resort (residents only)
DESCRIPTION:
URL:https://www.vanreedbrothers.com/event/mesa-spirit-rv-resort-residents-only/
LOCATION:AZ
END:VEVENT
BEGIN:VEVENT
DTSTART;TZID=America/New_York:20220211T173000
DTEND;TZID=America/New_York:20220211T203000
DTSTAMP:20260425T073832
CREATED:20211229T175927Z
LAST-MODIFIED:20211229T175927Z
UID:558-1644600600-1644611400@www.vanreedbrothers.com
SUMMARY:Wicked Six Bar and Grill at Sunridge Canyon
DESCRIPTION:
URL:https://www.vanreedbrothers.com/event/wicked-six-bar-and-grill-at-sunridge-canyon-4/
LOCATION:Wicked Six Bar and Grill\, 13100 Sunridge Dr.\, Fountain Hills\, AZ\, United States
END:VEVENT
BEGIN:VEVENT
DTSTART;TZID=America/New_York:20220212T170000
DTEND;TZID=America/New_York:20220212T200000
DTSTAMP:20260425T073832
CREATED:20220206T001332Z
LAST-MODIFIED:20220206T001332Z
UID:563-1644685200-1644696000@www.vanreedbrothers.com
SUMMARY:Private event
DESCRIPTION:
URL:https://www.vanreedbrothers.com/event/private-event/
LOCATION:AZ
END:VEVENT
BEGIN:VEVENT
DTSTART;TZID=America/New_York:20220218T170000
DTEND;TZID=America/New_York:20220218T210000
DTSTAMP:20260425T073832
CREATED:20220129T211657Z
LAST-MODIFIED:20220129T211657Z
UID:560-1645203600-1645218000@www.vanreedbrothers.com
SUMMARY:Mountain View Pub
DESCRIPTION:
URL:https://www.vanreedbrothers.com/event/mountain-view-pub-6/
LOCATION:Mountain View Pub\, 7033 E Cave Creek Rd\, Cave Creek\, AZ\, 85331\, United States
END:VEVENT
BEGIN:VEVENT
DTSTART;TZID=America/New_York:20220219T180000
DTEND;TZID=America/New_York:20220219T210000
DTSTAMP:20260425T073832
CREATED:20220129T212004Z
LAST-MODIFIED:20220129T212004Z
UID:561-1645293600-1645304400@www.vanreedbrothers.com
SUMMARY:Glossy Heifer Grill
DESCRIPTION:
URL:https://www.vanreedbrothers.com/event/glossy-heifer-grill/
LOCATION:Glossy Heifer Grill\, 46202 N. Black Canyon Hwy\, New River\, AZ\, United States
END:VEVENT
END:VCALENDAR