BEGIN:VCALENDAR
VERSION:2.0
PRODID:-//The Van Reed Brothers - ECPv6.15.12.2//NONSGML v1.0//EN
CALSCALE:GREGORIAN
METHOD:PUBLISH
X-ORIGINAL-URL:https://www.vanreedbrothers.com
X-WR-CALDESC:Events for The Van Reed Brothers
REFRESH-INTERVAL;VALUE=DURATION:PT1H
X-Robots-Tag:noindex
X-PUBLISHED-TTL:PT1H
BEGIN:VTIMEZONE
TZID:America/New_York
BEGIN:DAYLIGHT
TZOFFSETFROM:-0500
TZOFFSETTO:-0400
TZNAME:EDT
DTSTART:20210314T070000
END:DAYLIGHT
BEGIN:STANDARD
TZOFFSETFROM:-0400
TZOFFSETTO:-0500
TZNAME:EST
DTSTART:20211107T060000
END:STANDARD
BEGIN:DAYLIGHT
TZOFFSETFROM:-0500
TZOFFSETTO:-0400
TZNAME:EDT
DTSTART:20220313T070000
END:DAYLIGHT
BEGIN:STANDARD
TZOFFSETFROM:-0400
TZOFFSETTO:-0500
TZNAME:EST
DTSTART:20221106T060000
END:STANDARD
BEGIN:DAYLIGHT
TZOFFSETFROM:-0500
TZOFFSETTO:-0400
TZNAME:EDT
DTSTART:20230312T070000
END:DAYLIGHT
BEGIN:STANDARD
TZOFFSETFROM:-0400
TZOFFSETTO:-0500
TZNAME:EST
DTSTART:20231105T060000
END:STANDARD
END:VTIMEZONE
BEGIN:VEVENT
DTSTART;TZID=America/New_York:20220701T170000
DTEND;TZID=America/New_York:20220701T210000
DTSTAMP:20260422T200846
CREATED:20220613T190819Z
LAST-MODIFIED:20220613T190819Z
UID:585-1656694800-1656709200@www.vanreedbrothers.com
SUMMARY:Mountain View Pub
DESCRIPTION:
URL:https://www.vanreedbrothers.com/event/mountain-view-pub-10/
LOCATION:Mountain View Pub\, 7033 E Cave Creek Rd\, Cave Creek\, AZ\, 85331\, United States
END:VEVENT
BEGIN:VEVENT
DTSTART;TZID=America/New_York:20220709T180000
DTEND;TZID=America/New_York:20220709T210000
DTSTAMP:20260422T200846
CREATED:20220613T191127Z
LAST-MODIFIED:20220613T191127Z
UID:586-1657389600-1657400400@www.vanreedbrothers.com
SUMMARY:Mark's Beer Garden
DESCRIPTION:
URL:https://www.vanreedbrothers.com/event/marks-beer-garden/
LOCATION:Mark’s Beer Garden\, 1590 Swenson St.\, Prescott\, AZ\, United States
END:VEVENT
BEGIN:VEVENT
DTSTART;TZID=America/New_York:20220710T180000
DTEND;TZID=America/New_York:20220710T210000
DTSTAMP:20260422T200846
CREATED:20220613T191223Z
LAST-MODIFIED:20220613T191223Z
UID:588-1657476000-1657486800@www.vanreedbrothers.com
SUMMARY:The Belfry Brewery
DESCRIPTION:
URL:https://www.vanreedbrothers.com/event/the-belfry-brewery-5/
LOCATION:The Belfry Brewery\, 91 N Main St\, Cottonwood\, AZ\, 86326\, United States
END:VEVENT
BEGIN:VEVENT
DTSTART;TZID=America/New_York:20220722T190000
DTEND;TZID=America/New_York:20220722T210000
DTSTAMP:20260422T200846
CREATED:20220613T191340Z
LAST-MODIFIED:20220613T191340Z
UID:589-1658516400-1658523600@www.vanreedbrothers.com
SUMMARY:Venture In Show Low\, Az
DESCRIPTION:Residents only
URL:https://www.vanreedbrothers.com/event/venture-in-show-low-az/
LOCATION:AZ
END:VEVENT
BEGIN:VEVENT
DTSTART;TZID=America/New_York:20220730T190000
DTEND;TZID=America/New_York:20220730T220000
DTSTAMP:20260422T200846
CREATED:20220613T191442Z
LAST-MODIFIED:20220613T191442Z
UID:590-1659207600-1659218400@www.vanreedbrothers.com
SUMMARY:Vino di Sedona
DESCRIPTION:
URL:https://www.vanreedbrothers.com/event/vino-di-sedona-6/
LOCATION:Vino di Sedona\, 2575 AZ-89A\, Sedona\, AZ\, United States
END:VEVENT
END:VCALENDAR