BEGIN:VCALENDAR
VERSION:2.0
PRODID:-//The Van Reed Brothers - ECPv6.15.12.2//NONSGML v1.0//EN
CALSCALE:GREGORIAN
METHOD:PUBLISH
X-ORIGINAL-URL:https://www.vanreedbrothers.com
X-WR-CALDESC:Events for The Van Reed Brothers
REFRESH-INTERVAL;VALUE=DURATION:PT1H
X-Robots-Tag:noindex
X-PUBLISHED-TTL:PT1H
BEGIN:VTIMEZONE
TZID:America/New_York
BEGIN:DAYLIGHT
TZOFFSETFROM:-0500
TZOFFSETTO:-0400
TZNAME:EDT
DTSTART:20230312T070000
END:DAYLIGHT
BEGIN:STANDARD
TZOFFSETFROM:-0400
TZOFFSETTO:-0500
TZNAME:EST
DTSTART:20231105T060000
END:STANDARD
BEGIN:DAYLIGHT
TZOFFSETFROM:-0500
TZOFFSETTO:-0400
TZNAME:EDT
DTSTART:20240310T070000
END:DAYLIGHT
BEGIN:STANDARD
TZOFFSETFROM:-0400
TZOFFSETTO:-0500
TZNAME:EST
DTSTART:20241103T060000
END:STANDARD
BEGIN:DAYLIGHT
TZOFFSETFROM:-0500
TZOFFSETTO:-0400
TZNAME:EDT
DTSTART:20250309T070000
END:DAYLIGHT
BEGIN:STANDARD
TZOFFSETFROM:-0400
TZOFFSETTO:-0500
TZNAME:EST
DTSTART:20251102T060000
END:STANDARD
END:VTIMEZONE
BEGIN:VEVENT
DTSTART;TZID=America/New_York:20240301T173000
DTEND;TZID=America/New_York:20240301T203000
DTSTAMP:20260421T142121
CREATED:20240206T144300Z
LAST-MODIFIED:20240206T144300Z
UID:660-1709314200-1709325000@www.vanreedbrothers.com
SUMMARY:Wicked Six Bar and Grill at Sunridge Canyon
DESCRIPTION:
URL:https://www.vanreedbrothers.com/event/wicked-six-bar-and-grill-at-sunridge-canyon-19/
LOCATION:Wicked Six Bar and Grill\, 13100 Sunridge Dr.\, Fountain Hills\, AZ\, United States
END:VEVENT
BEGIN:VEVENT
DTSTART;TZID=America/New_York:20240309T173000
DTEND;TZID=America/New_York:20240309T203000
DTSTAMP:20260421T142121
CREATED:20240206T144533Z
LAST-MODIFIED:20240228T203401Z
UID:662-1710005400-1710016200@www.vanreedbrothers.com
SUMMARY:Wicked Six Bar and Grill at Sunridge Canyon
DESCRIPTION:
URL:https://www.vanreedbrothers.com/event/wicked-six-bar-and-grill-at-sunridge-canyon-20/
LOCATION:Wicked Six Bar and Grill\, 13100 Sunridge Dr.\, Fountain Hills\, AZ\, United States
END:VEVENT
BEGIN:VEVENT
DTSTART;TZID=America/New_York:20240310T160000
DTEND;TZID=America/New_York:20240310T190000
DTSTAMP:20260421T142121
CREATED:20240206T144640Z
LAST-MODIFIED:20240206T144640Z
UID:663-1710086400-1710097200@www.vanreedbrothers.com
SUMMARY:The Belfry Brewery
DESCRIPTION:
URL:https://www.vanreedbrothers.com/event/the-belfry-brewery-8/
LOCATION:The Belfry Brewery\, 91 N Main St\, Cottonwood\, AZ\, 86326\, United States
END:VEVENT
BEGIN:VEVENT
DTSTART;TZID=America/New_York:20240323T180000
DTEND;TZID=America/New_York:20240323T210000
DTSTAMP:20260421T142121
CREATED:20240206T144737Z
LAST-MODIFIED:20240206T144737Z
UID:664-1711216800-1711227600@www.vanreedbrothers.com
SUMMARY:private event
DESCRIPTION:
URL:https://www.vanreedbrothers.com/event/private-event-5/
LOCATION:AZ
END:VEVENT
BEGIN:VEVENT
DTSTART;TZID=America/New_York:20240330T180000
DTEND;TZID=America/New_York:20240330T210000
DTSTAMP:20260421T142121
CREATED:20240228T203114Z
LAST-MODIFIED:20240228T203114Z
UID:669-1711821600-1711832400@www.vanreedbrothers.com
SUMMARY:Robber’s Roost
DESCRIPTION:
URL:https://www.vanreedbrothers.com/event/robbers-roost-2/
LOCATION:Robbers Roost\, 1160b Page Springs Rd\, Cornville\, AZ\, United States
END:VEVENT
END:VCALENDAR