BEGIN:VCALENDAR
VERSION:2.0
PRODID:-//The Van Reed Brothers - ECPv6.15.12.2//NONSGML v1.0//EN
CALSCALE:GREGORIAN
METHOD:PUBLISH
X-ORIGINAL-URL:https://www.vanreedbrothers.com
X-WR-CALDESC:Events for The Van Reed Brothers
REFRESH-INTERVAL;VALUE=DURATION:PT1H
X-Robots-Tag:noindex
X-PUBLISHED-TTL:PT1H
BEGIN:VTIMEZONE
TZID:America/New_York
BEGIN:DAYLIGHT
TZOFFSETFROM:-0500
TZOFFSETTO:-0400
TZNAME:EDT
DTSTART:20230312T070000
END:DAYLIGHT
BEGIN:STANDARD
TZOFFSETFROM:-0400
TZOFFSETTO:-0500
TZNAME:EST
DTSTART:20231105T060000
END:STANDARD
BEGIN:DAYLIGHT
TZOFFSETFROM:-0500
TZOFFSETTO:-0400
TZNAME:EDT
DTSTART:20240310T070000
END:DAYLIGHT
BEGIN:STANDARD
TZOFFSETFROM:-0400
TZOFFSETTO:-0500
TZNAME:EST
DTSTART:20241103T060000
END:STANDARD
BEGIN:DAYLIGHT
TZOFFSETFROM:-0500
TZOFFSETTO:-0400
TZNAME:EDT
DTSTART:20250309T070000
END:DAYLIGHT
BEGIN:STANDARD
TZOFFSETFROM:-0400
TZOFFSETTO:-0500
TZNAME:EST
DTSTART:20251102T060000
END:STANDARD
END:VTIMEZONE
BEGIN:VEVENT
DTSTART;TZID=America/New_York:20240710T170000
DTEND;TZID=America/New_York:20240710T200000
DTSTAMP:20260421T082356
CREATED:20240629T193458Z
LAST-MODIFIED:20240629T193458Z
UID:687-1720630800-1720641600@www.vanreedbrothers.com
SUMMARY:Robber’s Roost
DESCRIPTION:
URL:https://www.vanreedbrothers.com/event/robbers-roost-3/
LOCATION:Robbers Roost\, 1160b Page Springs Rd\, Cornville\, AZ\, United States
END:VEVENT
BEGIN:VEVENT
DTSTART;TZID=America/New_York:20240719T170000
DTEND;TZID=America/New_York:20240719T210000
DTSTAMP:20260421T082356
CREATED:20240629T193547Z
LAST-MODIFIED:20240629T193547Z
UID:688-1721408400-1721422800@www.vanreedbrothers.com
SUMMARY:Mountain View Pub
DESCRIPTION:
URL:https://www.vanreedbrothers.com/event/mountain-view-pub-30/
LOCATION:Mountain View Pub\, 7033 E Cave Creek Rd\, Cave Creek\, AZ\, 85331\, United States
END:VEVENT
BEGIN:VEVENT
DTSTART;TZID=America/New_York:20240720T180000
DTEND;TZID=America/New_York:20240720T210000
DTSTAMP:20260421T082356
CREATED:20240719T021129Z
LAST-MODIFIED:20240719T021129Z
UID:699-1721498400-1721509200@www.vanreedbrothers.com
SUMMARY:Scorpion Bay Lake Pleasant
DESCRIPTION:
URL:https://www.vanreedbrothers.com/event/scorpion-bay-lake-pleasant/
LOCATION:Scorpion Bay Marina\, 10970 W. Penninsula Blvd\, Peoria\, AZ\, United States
END:VEVENT
END:VCALENDAR